BEGIN:VCALENDAR
VERSION:2.0
PRODID:-//MAGDRL - ECPv6.15.17.1//NONSGML v1.0//EN
CALSCALE:GREGORIAN
METHOD:PUBLISH
X-ORIGINAL-URL:https://www.magdrl-test.org
X-WR-CALDESC:Events for MAGDRL
REFRESH-INTERVAL;VALUE=DURATION:PT1H
X-Robots-Tag:noindex
X-PUBLISHED-TTL:PT1H
BEGIN:VTIMEZONE
TZID:America/New_York
BEGIN:DAYLIGHT
TZOFFSETFROM:-0500
TZOFFSETTO:-0400
TZNAME:EDT
DTSTART:20230312T070000
END:DAYLIGHT
BEGIN:STANDARD
TZOFFSETFROM:-0400
TZOFFSETTO:-0500
TZNAME:EST
DTSTART:20231105T060000
END:STANDARD
BEGIN:DAYLIGHT
TZOFFSETFROM:-0500
TZOFFSETTO:-0400
TZNAME:EDT
DTSTART:20240310T070000
END:DAYLIGHT
BEGIN:STANDARD
TZOFFSETFROM:-0400
TZOFFSETTO:-0500
TZNAME:EST
DTSTART:20241103T060000
END:STANDARD
BEGIN:DAYLIGHT
TZOFFSETFROM:-0500
TZOFFSETTO:-0400
TZNAME:EDT
DTSTART:20250309T070000
END:DAYLIGHT
BEGIN:STANDARD
TZOFFSETFROM:-0400
TZOFFSETTO:-0500
TZNAME:EST
DTSTART:20251102T060000
END:STANDARD
BEGIN:DAYLIGHT
TZOFFSETFROM:-0500
TZOFFSETTO:-0400
TZNAME:EDT
DTSTART:20260308T070000
END:DAYLIGHT
BEGIN:STANDARD
TZOFFSETFROM:-0400
TZOFFSETTO:-0500
TZNAME:EST
DTSTART:20261101T060000
END:STANDARD
END:VTIMEZONE
BEGIN:VEVENT
DTSTART;VALUE=DATE:20251012
DTEND;VALUE=DATE:20251019
DTSTAMP:20260421T004249
CREATED:20250326T214259Z
LAST-MODIFIED:20250326T222102Z
UID:16296-1760227200-1760831999@www.magdrl-test.org
SUMMARY:Great Dane Nationals at Kalahari Resorts & Conventions *Oct 12-18*
DESCRIPTION:Save the Dates!  More information to follow!\n \n250 Kalahari Blvd. Pocono Manor PA 18349. October 12th through 18th\, 2025.
URL:https://www.magdrl-test.org/event/great-dane-nationals-save-the-dates-oct-12-18/
LOCATION:Kalahari Resorts\, 250 Kalahari Blvd\, Pocono Manor\, PA\, 18349\, United States
CATEGORIES:PA Events
ATTACH;FMTTYPE=image/jpeg:https://www.magdrl-test.org/wp-content/uploads/2025/03/Great-Dane-Nationals_fulllogo.jpg
END:VEVENT
BEGIN:VEVENT
DTSTART;TZID=America/New_York:20250921T110000
DTEND;TZID=America/New_York:20250921T170000
DTSTAMP:20260421T004249
CREATED:20250918T231938Z
LAST-MODIFIED:20250919T003251Z
UID:18024-1758452400-1758474000@www.magdrl-test.org
SUMMARY:Shamrocks & Shenanigans - Sept 20th & 21st
DESCRIPTION:Come out for a day of fun this weekend and meet our Danes and volunteers at the Mount Hope Estate & Winery.\nStrap on you kilt\, grab your shillelagh\, and hold on to your potatoes – the Celtic nations have come to revel in Mount Hope!\nEnjoy a good stout\, a scotch egg\, and show off your calves all weekend long.\n\n\nMount Hope Estate & Winery\n2775 Lebanon Road\n\n\nManheim\, PA 17545 \n\n\n\n 
URL:https://www.magdrl-test.org/event/shamrocks-shenanigans-sept-20th-21st/
LOCATION:Mount Hope Estate\, 2775 Lebanon Rd.\, Manheim\, PA\, 17545\, United States
CATEGORIES:PA Events
ATTACH;FMTTYPE=image/png:https://www.magdrl-test.org/wp-content/uploads/2025/09/Untitled-design-1.png
END:VEVENT
BEGIN:VEVENT
DTSTART;TZID=America/New_York:20250920T110000
DTEND;TZID=America/New_York:20250920T170000
DTSTAMP:20260421T004249
CREATED:20250918T230935Z
LAST-MODIFIED:20250919T003433Z
UID:18020-1758366000-1758387600@www.magdrl-test.org
SUMMARY:Shamrocks & Shenanigans - Sept. 20th & 21st
DESCRIPTION:Come out for a day of fun and meet our Danes and volunteers this weekend at the Mount Hope Estate & Winery. \nStrap on your kilt\, grab your shillelagh\, and hold on to your potatoes – the Celtic nations have come to revel in Mount Hope! \nEnjoy a good stout\, a scotch egg\, and show off your calves all weekend long! \n\n\nMount Hope Estate & Winery\n\n\n\n2775 Lebanon Road\nManheim\, PA 17545 
URL:https://www.magdrl-test.org/event/shamrocks-shenanigans/
LOCATION:Mount Hope Estate\, 2775 Lebanon Rd.\, Manheim\, PA\, 17545\, United States
CATEGORIES:PA Events
ATTACH;FMTTYPE=image/png:https://www.magdrl-test.org/wp-content/uploads/2025/09/Shamrock-Shenanigans-feature-image.png
END:VEVENT
BEGIN:VEVENT
DTSTART;TZID=America/New_York:20250830T100000
DTEND;TZID=America/New_York:20250830T180000
DTSTAMP:20260421T004249
CREATED:20250326T212855Z
LAST-MODIFIED:20250825T163119Z
UID:16290-1756548000-1756576800@www.magdrl-test.org
SUMMARY:Taste of Hamburg-er Festival
DESCRIPTION:We are looking forward to the 22nd Annual Taste of Hamburger Festival! Feel free to browse around… but be warned: you WILL get hungry. \nOur dedicated volunteers will be at the festival to offer information about the breed\, adoption and how to become a volunteer! \n(Unfortunately\, the venue had advised us that we won’t be able to bring the Danes with us this year.) \nThe Hamburger Festival takes place RAIN or SHINE on Saturday\, August 30\, 2025 (ALWAYS the Saturday before Labor Day) from 10 am to 6 pm\, in Hamburg\, PA\, situated in the beautiful foothills of the Appalachian Mountains.
URL:https://www.magdrl-test.org/event/the-taste-of-hamburg-festival/
LOCATION:Hamburg Festival\, 2 South 4th Street\, Hamburg\, PA\, 19526\, United States
CATEGORIES:PA Events
ATTACH;FMTTYPE=image/png:https://www.magdrl-test.org/wp-content/uploads/2025/03/MAGDRL-Taste-of-Hamburg-er-Festival-Feature-Image.png
END:VEVENT
BEGIN:VEVENT
DTSTART;TZID=America/New_York:20250712T120000
DTEND;TZID=America/New_York:20250712T150000
DTSTAMP:20260421T004249
CREATED:20250326T210736Z
LAST-MODIFIED:20250604T181115Z
UID:16284-1752321600-1752332400@www.magdrl-test.org
SUMMARY:CANCELLED :(  Blues & Brews - Mount Hope Estate
DESCRIPTION:CANCELLED 🙁\nThe 16th Annual Blues & Brews at Mount Hope Estate\nOur Danes and volunteers will be greeting folks at the 16th annual Blues & Brews event. \nGuests can savor the taste of a summertime Maryland feast without the drive: Hard Shell Crabs\, Steamed Shrimp\, BBQ Pork\, Potato Salad\, Coleslaw\, Garden Pasta Salad\, Hush Puppies\, Fresh Fruit\, and Dessert. Beer from the Swashbuckler Brewing Company will round out this summertime feast. All the amazing food you can eat\, unlimited drinks\, and live music with one admission ticket.
URL:https://www.magdrl-test.org/event/blues-brews-at-mount-hope-estate/
LOCATION:Mount Hope Estate\, 2775 Lebanon Rd.\, Manheim\, PA\, 17545\, United States
CATEGORIES:PA Events
END:VEVENT
BEGIN:VEVENT
DTSTART;TZID=America/New_York:20250629T110000
DTEND;TZID=America/New_York:20250629T170000
DTSTAMP:20260421T004249
CREATED:20250326T205429Z
LAST-MODIFIED:20250608T210501Z
UID:16281-1751194800-1751216400@www.magdrl-test.org
SUMMARY:Celtic Fling - Mount Hope Estates
DESCRIPTION:Please check back for more info and our hours  🙂\nCeltic Fling and Highland Games at the PA Renaissance Faire Grounds\, Mount Hope\, PA \nJune 28th & June 29th \nThe Celtic Fling & Highland Games\, as an unbridled celebration of Celtic Culture\, offers a first-hand tour of these compelling cultures as it salutes both traditional and contemporary Celtic heritage. Our volunteers and Danes will be there to meet you with information about adoption and the breed\, and lots of wagging tails! \nDelight your senses with the sights\, sounds\, smells\, and tastes of this rollicking Celtic celebration. Enjoy traditional pipe bands\, modern Celtic rock bands\, and everything in between\, plus delicious Celtic cuisine\, fresh brewed ales\, wines\, ciders\, and more!
URL:https://www.magdrl-test.org/event/celtic-fling-manheim-pa/
LOCATION:Mount Hope Estate\, 2775 Lebanon Rd.\, Manheim\, PA\, 17545\, United States
CATEGORIES:PA Events
ATTACH;FMTTYPE=image/png:https://www.magdrl-test.org/wp-content/uploads/2025/03/MAGDRL-Celtic-Fling-Feature-Image.png
END:VEVENT
BEGIN:VEVENT
DTSTART;TZID=America/New_York:20250628T110000
DTEND;TZID=America/New_York:20250628T170000
DTSTAMP:20260421T004249
CREATED:20250326T205309Z
LAST-MODIFIED:20250608T211146Z
UID:16278-1751108400-1751130000@www.magdrl-test.org
SUMMARY:Celtic Fling - Mount Hope Estates
DESCRIPTION:Please check back for more info and our hours!\nCeltic Fling and Highland Games at the PA Renaissance Faire Grounds\, Mount Hope\, PA \nJune 28th & June 29th \nThe Celtic Fling & Highland Games\, as an unbridled celebration of Celtic Culture\, offers a first-hand tour of these compelling cultures as it salutes both traditional and contemporary Celtic heritage. Our volunteers and Danes will be there to meet you with information about adoption and the breed\, and lots of wagging tails! \nDelight your senses with the sights\, sounds\, smells\, and tastes of this rollicking Celtic celebration. Enjoy traditional pipe bands\, modern Celtic rock bands\, and everything in between\, plus delicious Celtic cuisine\, fresh brewed ales\, wines\, ciders\, and more!
URL:https://www.magdrl-test.org/event/celtic-fling/
LOCATION:Mount Hope Estate\, 2775 Lebanon Rd.\, Manheim\, PA\, 17545\, United States
CATEGORIES:PA Events
ATTACH;FMTTYPE=image/png:https://www.magdrl-test.org/wp-content/uploads/2025/03/MAGDRL-Celtic-Fling-Feature-Image-2.png
END:VEVENT
BEGIN:VEVENT
DTSTART;TZID=America/New_York:20250525T110000
DTEND;TZID=America/New_York:20250525T170000
DTSTAMP:20260421T004249
CREATED:20250326T203706Z
LAST-MODIFIED:20250427T130903Z
UID:16275-1748170800-1748192400@www.magdrl-test.org
SUMMARY:FlavorFest at Mount Hope Estates
DESCRIPTION:Visit us at the Flavorfest at Mount Hope Estate\, PA’s premier wine festival\, comes to the grounds of the Pennsylvania Renaissance Faire on Memorial Day Weekend.  Meet our dedicated volunteers and Gentle Giants to get some information about the breed and adoption\, and lots of happy wags ? \nEnjoy sampling with over 25 wineries and distilleries\, along with sales of their products. Shop with unique merchants of all types and grab a bite at one of the on-site kitchens. Pick up wine purchases as you depart from the Wine Check Tent conveniently located in the parking lot.
URL:https://www.magdrl-test.org/event/flavorfest-at-mount-hope-estates/
LOCATION:Mount Hope Estate\, 2775 Lebanon Rd.\, Manheim\, PA\, 17545\, United States
CATEGORIES:PA Events
ATTACH;FMTTYPE=image/png:https://www.magdrl-test.org/wp-content/uploads/2025/03/flavorfest-logo-PA.png
END:VEVENT
BEGIN:VEVENT
DTSTART;TZID=America/New_York:20250524T110000
DTEND;TZID=America/New_York:20250524T170000
DTSTAMP:20260421T004249
CREATED:20250326T202856Z
LAST-MODIFIED:20250427T130824Z
UID:16270-1748084400-1748106000@www.magdrl-test.org
SUMMARY:FlavorFest at Mount Hope Estate
DESCRIPTION:Visit us at Flavorfest at Mount Hope Estate\, PA’s premier wine festival\, comes to the grounds of the Pennsylvania Renaissance Faire on Memorial Day Weekend. Meet our dedicated volunteers and Gentle Giants to get some information about the breed and adoption\, and lots of wags 🙂 \nEnjoy sampling with over 25 wineries and distilleries\, along with sales of their products. Shop with unique merchants of all types and grab a bite at one of the on-site kitchens. Pick up wine purchases as you depart from the Wine Check Tent conveniently located in the parking lot.
URL:https://www.magdrl-test.org/event/flavorfest-at-mount-hope-estate/
LOCATION:Mount Hope Estate\, 2775 Lebanon Rd.\, Manheim\, PA\, 17545\, United States
CATEGORIES:PA Events
ATTACH;FMTTYPE=image/png:https://www.magdrl-test.org/wp-content/uploads/2025/03/flavorfest-logo-PA.png
END:VEVENT
BEGIN:VEVENT
DTSTART;TZID=America/New_York:20241026T100000
DTEND;TZID=America/New_York:20241026T140000
DTSTAMP:20260421T004249
CREATED:20241015T224547Z
LAST-MODIFIED:20241015T232616Z
UID:14388-1729936800-1729951200@www.magdrl-test.org
SUMMARY:Walmart Meet & Greet in Hamburg
DESCRIPTION:Come on over and meet our Danes and dedicated volunteers at the Walmart on Tilden Ridge Drive in Hamburg\, PA.  We’ll be there on Saturday\, October 26th.  Looking forward to seeing you! \nGuaranteed smiles and happy wags! \nPlease check back.  More info to follow
URL:https://www.magdrl-test.org/event/walmart-meet-greet-in-tilden-ridge/
LOCATION:Walmart Supercenter Hamburg PA\, 800 Tilden Ridge Drive\, Hamburg\, PA\, 09526\, United States
CATEGORIES:PA Events
END:VEVENT
END:VCALENDAR